BEGIN:VCALENDAR
VERSION:2.0
PRODID:-//ChamberMaster//Event Calendar 2.0//EN
METHOD:PUBLISH
X-PUBLISHED-TTL:P1H
REFRESH-INTERVAL:P1H
CALSCALE:GREGORIAN
BEGIN:VTIMEZONE
TZID:America/New_York
BEGIN:DAYLIGHT
RRULE:FREQ=YEARLY;BYMONTH=3;BYDAY=2SU
DTSTART:20070101T000000
TZOFFSETFROM:-0500
TZOFFSETTO:-0400
TZNAME:Eastern Daylight Time
END:DAYLIGHT
BEGIN:STANDARD
RRULE:FREQ=YEARLY;BYMONTH=11;BYDAY=1SU
DTSTART:20070101T000000
TZOFFSETFROM:-0400
TZOFFSETTO:-0500
TZNAME:Eastern Standard Time
END:STANDARD
END:VTIMEZONE
BEGIN:VEVENT
DTSTART;TZID=America/New_York:20260517T130000
DTEND;TZID=America/New_York:20260517T170000
X-MICROSOFT-CDO-ALLDAYEVENT:FALSE
SUMMARY:Youth Festival
DESCRIPTION:Yourt Festival - Presented by Buttonwood Nature Center. FREE!Sunday\, May 17 1 - 5pmGeared for kids of all ages\, the event features a variety of activities and entertainment throughout the day.Featured Entertainment Birds of Prey presented by Miller's Wildlife. Learn about birds of prey\, also known as raptors. Miller's Wildlife will take you under their wing and teach you about the distinct characteristics of a variety of raptors. From "feathered missiles" to "wolves of the sky\," this program will take your understanding of raptors to new heights! Activity Stations with area artists and organizations provide more fun. For More InformationWebsite: www.buttonwoodnaturecenter.org Phone: 717-762-0373 Email: info@buttonwoodnaturecenter.org  Event Webpage: https://buttonwoodnaturecenter.org/event/youth-fest-2026/
X-ALT-DESC;FMTTYPE=text/html:<!DOCTYPE html><html><head><title></title></head><body aria-disabled="false"><p style="text-align: center\;"><strong fr-original-style="" style="font-weight: 700\;"><span style="font-size: 24px\;">Yourt Festival - Presented by Buttonwood Nature Center.&nbsp\;</span></strong></p><p style="text-align: center\;"><span style="font-size: 24px\;"><strong fr-original-style="" style="font-weight: 700\;">FREE!</strong></span></p><p style="text-align: center\;"><span style="font-size: 24px\;"><strong fr-original-style="" style="font-weight: 700\;">Sunday\, May 17&nbsp\;</strong></span></p><p style="text-align: center\;"><span style="font-size: 24px\;"><strong fr-original-style="" style="font-weight: 700\;">1 - 5pm</strong></span></p><p style="text-align: center\;"><span style="font-size: 24px\;">Geared for kids of all ages\, the event features a variety of activities and entertainment throughout the day.</span></p><hr style="text-align: center\; clear: both\; user-select: none\; break-after: page\;" fr-original-style="text-align: center\;"><p style="text-align: center\;"><strong fr-original-style="" style="font-weight: 700\;">Featured Entertainment&nbsp\;</strong></p><p><strong fr-original-style="" style="font-weight: 700\;">Birds of Prey</strong> presented by Miller&rsquo\;s Wildlife. Learn about birds of prey\, also known as raptors. Miller&rsquo\;s Wildlife will take you under their wing and teach you about the distinct characteristics of a variety of raptors. From &ldquo\;feathered missiles&rdquo\; to &ldquo\;wolves of the sky\,&rdquo\; this program will take your understanding of raptors to new heights!&nbsp\;</p><p><strong fr-original-style="" style="font-weight: 700\;">Activity Stations</strong> with area artists and organizations provide more fun.&nbsp\;</p><hr fr-original-style="" style="clear: both\; user-select: none\; break-after: page\;"><p style="text-align: center\;"><strong fr-original-style="" style="font-weight: 700\;">For More Information</strong></p><p>Website: <a fr-original-style="" href="//www.buttonwoodnaturecenter.org" style="user-select: auto\;">www.buttonwoodnaturecenter.org</a>&nbsp\;</p><p>Phone: 717-762-0373&nbsp\;</p><p>Email: info@buttonwoodnaturecenter.org &nbsp\;</p><p>Event Webpage: <a fr-original-style="" href="https://buttonwoodnaturecenter.org/event/youth-fest-2026/" style="user-select: auto\;">https://buttonwoodnaturecenter.org/event/youth-fest-2026/</a>&nbsp\;</p></body></html>
LOCATION:12684 Mentzer Gap Rd Waynesboro PA 17268
UID:e.2621.1448424
SEQUENCE:3
DTSTAMP:20260424T105846Z
URL:https://washingtoncountychamberofcommercemd.growthzoneapp.com/communityevents/Details/youth-festival-1715423?sourceTypeId=Hub
END:VEVENT
END:VCALENDAR
