BEGIN:VCALENDAR
VERSION:2.0
PRODID:-//ChamberMaster//Event Calendar 2.0//EN
METHOD:PUBLISH
X-PUBLISHED-TTL:P1H
REFRESH-INTERVAL:P1H
CALSCALE:GREGORIAN
BEGIN:VTIMEZONE
TZID:America/New_York
BEGIN:DAYLIGHT
RRULE:FREQ=YEARLY;BYMONTH=3;BYDAY=2SU
DTSTART:20070101T000000
TZOFFSETFROM:-0500
TZOFFSETTO:-0400
TZNAME:Eastern Daylight Time
END:DAYLIGHT
BEGIN:STANDARD
RRULE:FREQ=YEARLY;BYMONTH=11;BYDAY=1SU
DTSTART:20070101T000000
TZOFFSETFROM:-0400
TZOFFSETTO:-0500
TZNAME:Eastern Standard Time
END:STANDARD
END:VTIMEZONE
BEGIN:VEVENT
DTSTART;TZID=America/New_York:20260714T090000
DTEND;TZID=America/New_York:20260714T150000
X-MICROSOFT-CDO-ALLDAYEVENT:FALSE
SUMMARY:Textile Arts and Nature Day Camp
DESCRIPTION:Textile Arts and Nature Day Camp\nTuesday\, July 149:00 AM - 3:00 PMat Pine Hill Recreation Area\nFor students completing grade 3 through age 17Camp fee: $60 Buttonwood member / $65 general public\nRegister online before July 7https://buttonwoodnaturecenter.org/event/textile-arts-and-nature-day-camp-2026/ \nThis camp includes textiles instruction from a Buttonwood educator who is a master weaver and textiles expert. Students learn skills with textiles such as wet and dry felting and weaving as they create several projects. After a lunch break\, campers will enjoy a hike and different nature activities as we connect textiles to nature. All materials included in the camp fee\, and each student will take home their completed projects. Students should pack a lunch and beverage. For more information\, email jessica@buttonwoodnaturecenter.org.
X-ALT-DESC;FMTTYPE=text/html:<!DOCTYPE html><html><head><title></title></head><body aria-disabled="false"><p style="text-align: center\;"><strong fr-original-style="" style="font-weight: 700\;"><span style="color: rgb(65\, 168\, 95)\; font-size: 24px\;">Textile Arts and Nature Day Camp</span></strong></p><p style="text-align: center\;"><br></p><p style="text-align: center\;"><strong fr-original-style="" style="font-weight: 700\;">Tuesday\, July 14</strong></p><p style="text-align: center\;"><strong fr-original-style="" style="font-weight: 700\;">9:00 AM - 3:00 PM</strong></p><p style="text-align: center\;"><strong fr-original-style="" style="font-weight: 700\;">at Pine Hill Recreation Area</strong></p><p style="text-align: center\;"><strong fr-original-style="" style="font-weight: 700\;"><br></strong></p><p style="text-align: center\;"><strong fr-original-style="" style="font-weight: 700\;">For students completing grade 3 through age 17</strong></p><p style="text-align: center\;"><strong fr-original-style="" style="font-weight: 700\;">Camp fee:&nbsp\;$60 Buttonwood member / $65 general public</strong></p><p style="text-align: center\;"><strong fr-original-style="" style="font-weight: 700\;"><br></strong></p><p style="text-align: center\;"><strong fr-original-style="" style="font-weight: 700\;">Register online before July 7</strong></p><p style="text-align: center\;"><a fr-original-style="" href="https://buttonwoodnaturecenter.org/event/textile-arts-and-nature-day-camp-2026/" style="user-select: auto\;"><strong fr-original-style="" style="font-weight: 700\;">https://buttonwoodnaturecenter.org/event/textile-arts-and-nature-day-camp-2026/</strong></a><strong fr-original-style="" style="font-weight: 700\;">&nbsp\;<br></strong></p><hr fr-original-style="" style="clear: both\; user-select: none\; break-after: page\;"><p>This camp includes textiles instruction from a Buttonwood educator who is a master weaver and textiles expert. Students learn skills with textiles such as wet and dry felting and weaving as they create several projects. After a lunch break\, campers will enjoy a hike and different nature activities as we connect textiles to nature.&nbsp\;</p><p>All materials included in the camp fee\, and each student will take home their completed projects. Students should pack a lunch and beverage.&nbsp\;</p><p>For more information\, email jessica@buttonwoodnaturecenter.org.&nbsp\;</p></body></html>
LOCATION:12684 Mentzer Gap Rd Rouzerville PA 17268
UID:e.2621.1448474
SEQUENCE:3
DTSTAMP:20260424T105846Z
URL:https://washingtoncountychamberofcommercemd.growthzoneapp.com/communityevents/Details/textile-arts-and-nature-day-camp-1715473?sourceTypeId=Hub
END:VEVENT
END:VCALENDAR
