BEGIN:VCALENDAR
VERSION:2.0
PRODID:-//ChamberMaster//Event Calendar 2.0//EN
METHOD:PUBLISH
X-PUBLISHED-TTL:P1H
REFRESH-INTERVAL:P1H
CALSCALE:GREGORIAN
BEGIN:VTIMEZONE
TZID:America/New_York
BEGIN:DAYLIGHT
RRULE:FREQ=YEARLY;BYMONTH=3;BYDAY=2SU
DTSTART:20070101T000000
TZOFFSETFROM:-0500
TZOFFSETTO:-0400
TZNAME:Eastern Daylight Time
END:DAYLIGHT
BEGIN:STANDARD
RRULE:FREQ=YEARLY;BYMONTH=11;BYDAY=1SU
DTSTART:20070101T000000
TZOFFSETFROM:-0400
TZOFFSETTO:-0500
TZNAME:Eastern Standard Time
END:STANDARD
END:VTIMEZONE
BEGIN:VEVENT
DTSTART;TZID=America/New_York:20260611T090000
DTEND;TZID=America/New_York:20260611T150000
X-MICROSOFT-CDO-ALLDAYEVENT:FALSE
SUMMARY:Splash and Science Day Camp 1
DESCRIPTION:Splash and Science Day Camp 1Spend the day with Buttonwood educators as you explore the wonders of water! Thursday\, June 119:00 AM - 3:00 PMat Red Run Park\nCamp Fee: $60 Buttonwood Nature Center Members / $65 General Public\nFor Ages 7-12Also offered on July 9 and August 13https://buttonwoodnaturecenter.org/event/splash-and-science-day-camp/ Campers will have the chance to study macroinvertebrates up close\, create a craft\, and play in the stream the perfect way to beat the summer heat! Please remember to wear sunscreen and pack lunch/snacks and lots of water. Kids should wear clothing and closed-toed shoes that can get wet (or a second pair of socks and shoes)\, and bring a towel. For more information\, email: jessica@buttonwoodnaturecenter.org.
X-ALT-DESC;FMTTYPE=text/html:<!DOCTYPE html><html><head><title></title></head><body aria-disabled="false"><p style="text-align: center\;"><strong fr-original-style="" style="font-weight: 700\;"><span style="color: rgb(41\, 105\, 176)\; font-size: 24px\;"><em>Splash and Science Day Camp 1</em></span></strong></p><p style="text-align: center\;"><span style="color: rgb(41\, 105\, 176)\; font-size: 18px\;">Spend the day with Buttonwood educators as you explore the wonders of water!</span></p><p style="text-align: center\;"><span style="color: rgb(41\, 105\, 176)\; font-size: 18px\;">&nbsp\;</span></p><p style="text-align: center\;"><strong fr-original-style="" style="font-weight: 700\;">Thursday\, June 11</strong></p><p style="text-align: center\;"><strong fr-original-style="" style="font-weight: 700\;">9:00 AM</strong><strong fr-original-style="" style="font-weight: 700\;"> - 3:00 PM</strong></p><p style="text-align: center\;"><strong fr-original-style="" style="font-weight: 700\;">at Red Run Park</strong></p><p style="text-align: center\;"><strong fr-original-style="" style="font-weight: 700\;"><br></strong></p><p style="text-align: center\;"><strong fr-original-style="" style="font-weight: 700\;">Camp Fee: $60 Buttonwood Nature Center Members / $65 General Public</strong></p><p style="text-align: center\;"><br></p><p style="text-align: center\;"><strong fr-original-style="" style="font-weight: 700\;">For Ages 7-12</strong></p><p style="text-align: center\;"><em>Also offered on July 9 and August 13</em></p><p style="text-align: center\;"><em><strong fr-original-style="" style="font-weight: 700\;"><a fr-original-style="" href="https://buttonwoodnaturecenter.org/event/splash-and-science-day-camp/" style="user-select: auto\;">https://buttonwoodnaturecenter.org/event/splash-and-science-day-camp/</a>&nbsp\;</strong></em></p><hr fr-original-style="" style="clear: both\; user-select: none\; break-after: page\;"><p>Campers will have the chance to study macroinvertebrates up close\, create a craft\, and play in the stream&mdash\;the perfect way to beat the summer heat!&nbsp\;</p><p>Please remember to wear sunscreen and pack lunch/snacks and lots of water. Kids should wear clothing and closed-toed shoes that can get wet (or a second pair of socks and shoes)\, and bring a towel.&nbsp\;</p><hr fr-original-style="" style="clear: both\; user-select: none\; break-after: page\;"><p><strong fr-original-style="" style="font-weight: 700\;">For more information\, email: jessica@buttonwoodnaturecenter.org.&nbsp\;</strong></p></body></html>
LOCATION:12143 Buchanan Trail E Rouzerville PA 17268
UID:e.2621.1448450
SEQUENCE:3
DTSTAMP:20260424T105837Z
URL:https://washingtoncountychamberofcommercemd.growthzoneapp.com/communityevents/Details/splash-and-science-day-camp-1-1715449?sourceTypeId=Hub
END:VEVENT
END:VCALENDAR
