BEGIN:VCALENDAR
VERSION:2.0
PRODID:-//ChamberMaster//Event Calendar 2.0//EN
METHOD:PUBLISH
X-PUBLISHED-TTL:P1H
REFRESH-INTERVAL:P1H
CALSCALE:GREGORIAN
BEGIN:VTIMEZONE
TZID:America/New_York
BEGIN:DAYLIGHT
RRULE:FREQ=YEARLY;BYMONTH=3;BYDAY=2SU
DTSTART:20070101T000000
TZOFFSETFROM:-0500
TZOFFSETTO:-0400
TZNAME:Eastern Daylight Time
END:DAYLIGHT
BEGIN:STANDARD
RRULE:FREQ=YEARLY;BYMONTH=11;BYDAY=1SU
DTSTART:20070101T000000
TZOFFSETFROM:-0400
TZOFFSETTO:-0500
TZNAME:Eastern Standard Time
END:STANDARD
END:VTIMEZONE
BEGIN:VEVENT
DTSTART;TZID=America/New_York:20260602T083000
DTEND;TZID=America/New_York:20260602T123000
X-MICROSOFT-CDO-ALLDAYEVENT:FALSE
SUMMARY:SEK’s Building Stronger Nonprofits Through Better Financial Management
DESCRIPTION:Enrich your knowledge by joining us at SEK's annual event for nonprofits. Our team of experts will provide you with timely updates on industry changes and valuable tips to optimize your organization's performance. Free webinar | Register here\nTuesday\, June 2\, 20268:30 a.m. - 12:30 p.m.\nVirtual via Zoom\n\n4 hours of CPE credit provided for attendance. Session Topics:\nPutting Your Money Where Your Mission IsManaging investments for nonprofit endowments and foundations requires balancing financial performance with mission-driven goals. In this session\, we'll explore funding sources\, investment and asset allocation strategies\, ways to align investments with your mission\, and the role community foundations can play\, along with practical guidance on measuring performance\, structuring an effective investment committee\, and preparing for future trends in nonprofit investing.Presented by Mike Kasecamp\, CPFA\, QKA\, President\, Trust and Wealth Services\, CNB Wealth AdvisorsRecruiting & Retention for NonprofitsLearn about today's current labor market as well as tools you can use to attract and retain talent. In this session\, we'll provide you with some creative ideas to implement now to build a strong team and ensure your organization's success.Presented by Laura Stover\, SHRM-SCP\, SPHR\, Director of HR Advisory Services\, SEKAccounting Technical Updates In this session\, we will review key technical updates\, including revenue recognition and grant income accounting\, recent changes in Uniform Guidance\, a summary of lease accounting with common pitfalls\, and new and upcoming accounting guidance related to Government Assistance (Topic 832) and improvements to income tax disclosures (Topic 740).Presented by Will Laubach\, CPA\, Member of the Firm\, SEKTax Benefits of Charitable Contributions for DonorsTax law changes can directly influence donor behavior and charitable giving strategies. In this session\, we'll review key tax developments affecting donors\, explain what they mean in practice\, and share actionable ideas your organization can implement to better position itself for fundraising success.Presented by Steve Lubart\, CPA\, Member of the Firm\, SEKWhen to Outsource Your Organization's FinancialsAs financial responsibilities become more complex\, it can be difficult to know when in-house processes are enough and when outside support may be beneficial. This session will explore practical signs that it may be time to outsource certain financial functions\, along with best practices\, common types of solutions\, and considerations to help your organization improve efficiency\, strengthen reporting\, and make informed decisions.Presented by Krista Gardner\, CPA\, Member of the Firm\, SEKEffective Use of Your BoardA nonprofit's board can be one of its greatest assets or one of its most underutilized resources. This presentation explores practical strategies for engaging your board in ways that strengthen governance\, advance the mission\, and support organizational sustainability.Presented by Erin Clark\, CPA\, MBA\, Member of the Firm\, SEK
X-ALT-DESC;FMTTYPE=text/html:<!DOCTYPE html><html><head><title></title></head><body aria-disabled="false"><p>Enrich your knowledge by joining us at SEK&#39\;s annual event for nonprofits. Our team of experts will provide you with timely updates on industry changes and valuable tips to optimize your organization&#39\;s performance.</p><p><strong fr-original-style="" style="font-weight: 700\;">&nbsp\;</strong></p><p><strong fr-original-style="" style="font-weight: 700\;">Free webinar |&nbsp\;</strong><a fr-original-style="" href="https://www.sek.com/events/building-stronger-nonprofits-through-better-financial-management-0" rel="noopener noreferrer" style="user-select: auto\;" target="_blank"><strong fr-original-style="" style="font-weight: 700\;">Register here</strong></a><strong fr-original-style="" style="font-weight: 700\;"><br></strong>Tuesday\, June 2\, 2026</p><p>8:30 a.m. - 12:30 p.m.<br>Virtual via Zoom<br><br><em>4 hours of CPE credit provided for attendance.</em></p><p><em>&nbsp\;</em></p><p><strong fr-original-style="" style="font-weight: 700\;">Session Topics:</strong></p><p><br></p><ul fr-original-style="margin-top:0in\;" style="margin-top: 0in\; list-style-position: inside\;" type="disc"><li style="mso-list:l0 level1 lfo1\;tab-stops:list .5in\;"><strong fr-original-style="" style="font-weight: 700\;">Putting Your Money Where Your Mission Is</strong><ul fr-original-style="margin-top:0in\;" style="margin-top: 0in\; list-style-position: inside\;" type="circle"><li style="mso-list:l0 level2 lfo1\;tab-stops:list 1.0in\;">Managing investments for nonprofit endowments and foundations requires balancing financial performance with mission-driven goals. In this session\, we&rsquo\;ll explore funding sources\, investment and asset allocation strategies\, ways to align investments with your mission\, and the role community foundations can play\, along with practical guidance on measuring performance\, structuring an effective investment committee\, and preparing for future trends in nonprofit investing.</li><li style="mso-list:l0 level2 lfo1\;tab-stops:list 1.0in\;">Presented by <a fr-original-style="" href="https://trust.cnb.bank/Mike-Kasecamp\,brCPFA\,-QKA.e1248602.htm" style="user-select: auto\;" target="_blank">Mike Kasecamp\, CPFA\, QKA</a>\, President\, Trust and Wealth Services\, CNB Wealth Advisors</li></ul></li><li style="mso-list:l0 level1 lfo1\;tab-stops:list .5in\;"><strong fr-original-style="" style="font-weight: 700\;">Recruiting &amp\; Retention for Nonprofits</strong><ul fr-original-style="margin-top:0in\;" style="margin-top: 0in\; list-style-position: inside\;" type="circle"><li style="mso-list:l0 level2 lfo1\;tab-stops:list 1.0in\;">Learn about today&rsquo\;s current labor market as well as tools you can use to attract and retain talent. In this session\, we&rsquo\;ll provide you with some creative ideas to implement now to build a strong team and ensure your organization&rsquo\;s success.</li><li style="mso-list:l0 level2 lfo1\;tab-stops:list 1.0in\;">Presented by <a fr-original-style="" href="https://www.sek.com/about/leadership/laura-stover" style="user-select: auto\;">Laura Stover\, SHRM-SCP\, SPHR</a>\, Director of HR Advisory Services\, SEK</li></ul></li><li style="mso-list:l0 level1 lfo1\;tab-stops:list .5in\;"><strong fr-original-style="" style="font-weight: 700\;">Accounting Technical Updates&nbsp\;</strong><ul fr-original-style="margin-top:0in\;" style="margin-top: 0in\; list-style-position: inside\;" type="circle"><li style="mso-list:l0 level2 lfo1\;tab-stops:list 1.0in\;">In this session\, we will review key technical updates\, including revenue recognition and grant income accounting\, recent changes in Uniform Guidance\, a summary of lease accounting with common pitfalls\, and new and upcoming accounting guidance related to Government Assistance (Topic 832) and improvements to income tax disclosures (Topic 740).</li><li style="mso-list:l0 level2 lfo1\;tab-stops:list 1.0in\;">Presented by <a fr-original-style="" href="https://www.sek.com/about/leadership/will-laubach" style="user-select: auto\;">Will Laubach\, CPA</a>\, Member of the Firm\, SEK</li></ul></li><li style="mso-list:l0 level1 lfo1\;tab-stops:list .5in\;"><strong fr-original-style="" style="font-weight: 700\;">Tax Benefits of Charitable Contributions for Donors</strong><ul fr-original-style="margin-top:0in\;" style="margin-top: 0in\; list-style-position: inside\;" type="circle"><li style="mso-list:l0 level2 lfo1\;tab-stops:list 1.0in\;">Tax law changes can directly influence donor behavior and charitable giving strategies. In this session\, we&rsquo\;ll review key tax developments affecting donors\, explain what they mean in practice\, and share actionable ideas your organization can implement to better position itself for fundraising success.</li><li style="mso-list:l0 level2 lfo1\;tab-stops:list 1.0in\;">Presented by <a fr-original-style="" href="https://www.sek.com/about/leadership/steven-lubart" style="user-select: auto\;">Steve Lubart\, CPA</a>\, Member of the Firm\, SEK</li></ul></li><li style="mso-list:l0 level1 lfo1\;tab-stops:list .5in\;"><strong fr-original-style="" style="font-weight: 700\;">When to Outsource Your Organization&#39\;s Financials</strong><ul fr-original-style="margin-top:0in\;" style="margin-top: 0in\; list-style-position: inside\;" type="circle"><li style="mso-list:l0 level2 lfo1\;tab-stops:list 1.0in\;">As financial responsibilities become more complex\, it can be difficult to know when in-house processes are enough and when outside support may be beneficial. This session will explore practical signs that it may be time to outsource certain financial functions\, along with best practices\, common types of solutions\, and considerations to help your organization improve efficiency\, strengthen reporting\, and make informed decisions.</li><li style="mso-list:l0 level2 lfo1\;tab-stops:list 1.0in\;">Presented by <a fr-original-style="" href="https://www.sek.com/about/leadership/krista-gardner" style="user-select: auto\;">Krista Gardner\, CPA</a>\, Member of the Firm\, SEK</li></ul></li><li style="mso-list:l0 level1 lfo1\;tab-stops:list .5in\;"><strong fr-original-style="" style="font-weight: 700\;">Effective Use of Your Board</strong><ul fr-original-style="margin-top:0in\;" style="margin-top: 0in\; list-style-position: inside\;" type="circle"><li style="mso-list:l0 level2 lfo1\;tab-stops:list 1.0in\;">A nonprofit&rsquo\;s board can be one of its greatest assets&mdash\;or one of its most underutilized resources. This presentation explores practical strategies for engaging your board in ways that strengthen governance\, advance the mission\, and support organizational sustainability.</li><li style="mso-list:l0 level2 lfo1\;tab-stops:list 1.0in\;">Presented by <a fr-original-style="" href="https://www.sek.com/about/leadership/erin-clark" style="user-select: auto\;">Erin Clark\, CPA\, MBA</a>\, Member of the Firm\, SEK</li></ul></li></ul></body></html>
LOCATION:
UID:e.2621.1449294
SEQUENCE:3
DTSTAMP:20260424T105845Z
URL:https://washingtoncountychamberofcommercemd.growthzoneapp.com/communityevents/Details/sek-s-building-stronger-nonprofits-through-better-financial-management-1716695?sourceTypeId=Hub
END:VEVENT
END:VCALENDAR
