BEGIN:VCALENDAR
VERSION:2.0
PRODID:-//ChamberMaster//Event Calendar 2.0//EN
METHOD:PUBLISH
X-PUBLISHED-TTL:P1H
REFRESH-INTERVAL:P1H
CALSCALE:GREGORIAN
BEGIN:VTIMEZONE
TZID:America/New_York
BEGIN:DAYLIGHT
RRULE:FREQ=YEARLY;BYMONTH=3;BYDAY=2SU
DTSTART:20070101T000000
TZOFFSETFROM:-0500
TZOFFSETTO:-0400
TZNAME:Eastern Daylight Time
END:DAYLIGHT
BEGIN:STANDARD
RRULE:FREQ=YEARLY;BYMONTH=11;BYDAY=1SU
DTSTART:20070101T000000
TZOFFSETFROM:-0400
TZOFFSETTO:-0500
TZNAME:Eastern Standard Time
END:STANDARD
END:VTIMEZONE
BEGIN:VEVENT
DTSTART;TZID=America/New_York:20260704T070000
DTEND;TZID=America/New_York:20260704T110000
X-MICROSOFT-CDO-ALLDAYEVENT:FALSE
SUMMARY:Salamander Scramble 5K Fundraiser
DESCRIPTION:Waynesboro Summer Jubilee:Salamander Scramble 5K FundraiserSaturday\, July 47:00 AM - 11:00 AMLocation: Across from 500 East Main Street\, Waynesboro\, PA All athletic levels are welcome.https://buttonwoodnaturecenter.org/event/salamander-scramble-5k-fundraiser-2026/ Lace up your running/walking shoes and join Team Salamander as we walk\, run or scramble! around Waynesboro to raise funds for Buttonwood Nature Center. Team members secure funding pledges from friends\, family\, and co-workers. Two ways to participate virtual and in-person. The race is conducted in conjunction with Waynesboro's Firecracker 5K. Our VIP tent will be set up with lots of perks for Team Salamander members. Entry fee: single adult $100\; single child: $50\; family with children: $200. For more info\, visit buttonwoodnaturecenter.orgCall 717-762-0373 Email: jessica@buttonwoodnaturecenter.org.
X-ALT-DESC;FMTTYPE=text/html:<!DOCTYPE html><html><head><title></title></head><body aria-disabled="false"><p style="text-align: center\;"><span style="color: rgb(243\, 121\, 52)\; font-size: 24px\;"><em><strong fr-original-style="" style="font-weight: 700\;">Waynesboro Summer Jubilee:</strong></em></span></p><p style="text-align: center\;"><span style="color: rgb(243\, 121\, 52)\; font-size: 24px\;"><em><strong fr-original-style="" style="font-weight: 700\;">Salamander Scramble 5K Fundraiser</strong></em></span></p><p style="text-align: center\;"><strong fr-original-style="" style="font-weight: 700\;">Saturday\, July 4</strong></p><p style="text-align: center\;"><strong fr-original-style="" style="font-weight: 700\;">7:00 AM - 11:00 AM</strong></p><p style="text-align: center\;">Location: Across from 500 East Main Street\, Waynesboro\, PA&nbsp\;</p><p style="text-align: center\;"><em>All athletic levels are welcome.</em></p><p style="text-align: center\;"><em><a fr-original-style="" href="https://buttonwoodnaturecenter.org/event/salamander-scramble-5k-fundraiser-2026/" style="user-select: auto\;"><strong fr-original-style="" style="font-weight: 700\;">https://buttonwoodnaturecenter.org/event/salamander-scramble-5k-fundraiser-2026/</strong></a><strong fr-original-style="" style="font-weight: 700\;">&nbsp\;</strong></em></p><hr fr-original-style="" style="clear: both\; user-select: none\; break-after: page\;"><p>Lace up your running/walking shoes and join Team Salamander as we walk\, run&mdash\;or scramble!&mdash\;around Waynesboro to raise funds for Buttonwood Nature Center.&nbsp\;</p><p>Team members secure funding pledges from friends\, family\, and co-workers.&nbsp\;</p><p>Two ways to participate&mdash\;virtual and in-person.&nbsp\;</p><p>The race is conducted in conjunction with Waynesboro&rsquo\;s Firecracker 5K. Our VIP tent will be set up with lots of perks for Team Salamander members.&nbsp\;</p><p>Entry fee: single adult $100\; single child: $50\; family with children: $200.&nbsp\;</p><hr fr-original-style="" style="clear: both\; user-select: none\; break-after: page\;"><p>For more info\, visit buttonwoodnaturecenter.org</p><p>Call 717-762-0373&nbsp\;</p><p>Email: jessica@buttonwoodnaturecenter.org.&nbsp\;</p></body></html>
LOCATION:501 East Main Street (across street) Waynesboro PA 17268
UID:e.2621.1448456
SEQUENCE:3
DTSTAMP:20260424T105839Z
URL:https://washingtoncountychamberofcommercemd.growthzoneapp.com/communityevents/Details/salamander-scramble-5k-fundraiser-1715455?sourceTypeId=Hub
END:VEVENT
END:VCALENDAR
