BEGIN:VCALENDAR
VERSION:2.0
PRODID:-//ChamberMaster//Event Calendar 2.0//EN
METHOD:PUBLISH
X-PUBLISHED-TTL:P1H
REFRESH-INTERVAL:P1H
CALSCALE:GREGORIAN
BEGIN:VTIMEZONE
TZID:America/New_York
BEGIN:DAYLIGHT
RRULE:FREQ=YEARLY;BYMONTH=3;BYDAY=2SU
DTSTART:20070101T000000
TZOFFSETFROM:-0500
TZOFFSETTO:-0400
TZNAME:Eastern Daylight Time
END:DAYLIGHT
BEGIN:STANDARD
RRULE:FREQ=YEARLY;BYMONTH=11;BYDAY=1SU
DTSTART:20070101T000000
TZOFFSETFROM:-0400
TZOFFSETTO:-0500
TZNAME:Eastern Standard Time
END:STANDARD
END:VTIMEZONE
BEGIN:VEVENT
DTSTART;TZID=America/New_York:20260715T090000
DTEND;TZID=America/New_York:20260715T150000
X-MICROSOFT-CDO-ALLDAYEVENT:FALSE
SUMMARY:Rocks and Relics Discover Camp
DESCRIPTION:ROCKS & RELICS DISCOVER CAMP\nWednesday\, July 159:00 AM - 3:00 PM\nCamp Fee: $60 Buttonwood Member / $65 General PublicFor students completing grade 3 through age 17.\nSpace is limited. Register online by July 8:\nhttps://buttonwoodnaturecenter.org/event/rocks-and-relics-discover-camp-2026/A Discover Series program combining earth science\, geology\, archaeology and history. Students explore the secrets of a 200-year-old homestead and how its environment influenced early settlers. Offered in partnership with Little Antietam Creek\, Inc. (LACI). Students join Buttonwood educators and LACI archaeologists to "dig into the past" at historic Stoner Farm digging and working with artifacts\, scientific testing of the properties of limestone and soil\, using remote sensing\, learning how limestone is cut\, and mortar is made\, and more. For more information:Call: 717-762-0373 Email: info@buttonwoodnaturecenter.org
X-ALT-DESC;FMTTYPE=text/html:<!DOCTYPE html><html><head><title></title></head><body aria-disabled="false"><p style="text-align: center\;"><strong fr-original-style="" style="font-weight: 700\;"><span style="color: rgb(124\, 112\, 107)\; font-size: 30px\;">ROCKS &amp\; RELICS DISCOVER CAMP</span></strong></p><p style="text-align: center\;"><br></p><p style="text-align: center\;"><strong fr-original-style="" style="font-weight: 700\;"><span style="font-size: 18px\;">Wednesday\, July 15</span></strong></p><p style="text-align: center\;"><span style="font-size: 18px\;"><strong fr-original-style="" style="font-weight: 700\;">9:00 AM - 3:00 PM</strong></span></p><p style="text-align: center\;"><span style="font-size: 18px\;"><br></span></p><p style="text-align: center\;"><span style="font-size: 18px\;"><strong fr-original-style="" style="font-weight: 700\;">Camp Fee: $60 Buttonwood Member / $65 General Public</strong></span></p><p style="text-align: center\;"><span style="font-size: 18px\;"><strong fr-original-style="" style="font-weight: 700\;">For students completing grade 3 through age 17.</strong></span></p><p style="text-align: center\;"><span style="font-size: 18px\;"><br></span></p><p style="text-align: center\;"><span style="font-size: 18px\;"><strong fr-original-style="" style="font-weight: 700\;">Space is limited. Register online by July 8:</strong><br></span></p><p style="text-align: center\;"><strong fr-original-style="" style="font-weight: 700\;"><a fr-original-style="" href="https://buttonwoodnaturecenter.org/event/rocks-and-relics-discover-camp-2026/" style="user-select: auto\;"><span style="font-size: 18px\;"><strong fr-original-style="" style="font-weight: 700\;">https://buttonwoodnaturecenter.org/event/rocks-and-relics-discover-</strong>camp-2026/</span></a></strong></p><hr fr-original-style="" style="clear: both\; user-select: none\; break-after: page\;"><p style="text-align: left\;">A Discover Series program combining earth science\, geology\, archaeology and history. Students explore the secrets of a 200-year-old homestead and how its environment influenced early settlers. Offered in partnership with Little Antietam Creek\, Inc. (LACI).&nbsp\;</p><p style="text-align: left\;">Students join Buttonwood educators and LACI archaeologists to &ldquo\;dig into the past&rdquo\; at historic Stoner Farm&mdash\;digging and working with artifacts\, scientific testing of the properties of limestone and soil\, using remote sensing\, learning how limestone is cut\, and mortar is made\, and more.&nbsp\;</p><hr fr-original-style="" style="clear: both\; user-select: none\; break-after: page\;"><p style="text-align: left\;"><strong fr-original-style="" style="font-weight: 700\;">For more information:</strong></p><p style="text-align: left\;">Call: 717-762-0373&nbsp\;</p><p style="text-align: left\;">Email: info@buttonwoodnaturecenter.org</p></body></html>
LOCATION:8777 Lyons Road Waynesboro PA
UID:e.2621.1448484
SEQUENCE:3
DTSTAMP:20260424T111058Z
URL:https://washingtoncountychamberofcommercemd.growthzoneapp.com/communityevents/Details/rocks-and-relics-discover-camp-1715483?sourceTypeId=Hub
END:VEVENT
END:VCALENDAR
