BEGIN:VCALENDAR
VERSION:2.0
PRODID:-//ChamberMaster//Event Calendar 2.0//EN
METHOD:PUBLISH
X-PUBLISHED-TTL:P1H
REFRESH-INTERVAL:P1H
CALSCALE:GREGORIAN
BEGIN:VTIMEZONE
TZID:America/New_York
BEGIN:DAYLIGHT
RRULE:FREQ=YEARLY;BYMONTH=3;BYDAY=2SU
DTSTART:20070101T000000
TZOFFSETFROM:-0500
TZOFFSETTO:-0400
TZNAME:Eastern Daylight Time
END:DAYLIGHT
BEGIN:STANDARD
RRULE:FREQ=YEARLY;BYMONTH=11;BYDAY=1SU
DTSTART:20070101T000000
TZOFFSETFROM:-0400
TZOFFSETTO:-0500
TZNAME:Eastern Standard Time
END:STANDARD
END:VTIMEZONE
BEGIN:VEVENT
DTSTART;TZID=America/New_York:20260606T130000
DTEND;TZID=America/New_York:20260606T140000
X-MICROSOFT-CDO-ALLDAYEVENT:FALSE
SUMMARY:National Trails Day
DESCRIPTION:National Trails Day - Guided HikeSaturday\, June 61:00 PM - 2:00 PMat Old Forge Picnic Grounds\nFREE - All Ages Welcome!Join a Buttonwood naturalist for a guided hike in recognition of National Trails Day. The annual event on the first Saturday in June is a chance to get outdoors\, connect with your community\, and enjoy outdoor activities. During the hike\, your expert guide will stop along the way to enjoy the beauty of nature in early summer\, and learn about the Appalachian Trail. Open to families and all ages. Registration is not required and the event is free join us! More Information: https://buttonwoodnaturecenter.org/event/national-trails-day-2026/
X-ALT-DESC;FMTTYPE=text/html:<!DOCTYPE html><html><head><title></title></head><body aria-disabled="false"><p style="text-align: center\;"><span style="font-size: 24px\;"><strong fr-original-style="" style="font-weight: 700\;">National Trails Day - Guided Hike</strong></span></p><hr style="text-align: center\; clear: both\; user-select: none\; break-after: page\;" fr-original-style="text-align: center\;"><p style="text-align: center\;"><span style="font-size: 24px\;"><strong fr-original-style="" style="font-weight: 700\;">Saturday\, June 6</strong></span></p><p style="text-align: center\;"><span style="font-size: 24px\;"><strong fr-original-style="" style="font-weight: 700\;">1:00 PM - 2:00 PM</strong></span></p><p style="text-align: center\;"><span style="font-size: 24px\;"><strong fr-original-style="" style="font-weight: 700\;">at Old Forge Picnic Grounds</strong></span></p><p style="text-align: center\;"><br></p><p style="text-align: center\;"><span style="font-size: 24px\;"><strong fr-original-style="" style="font-weight: 700\;">FREE - All Ages Welcome!</strong></span></p><hr fr-original-style="" style="clear: both\; user-select: none\; break-after: page\;"><p>Join a Buttonwood naturalist for a guided hike in recognition of National Trails Day. The annual event on the first Saturday in June is a chance to get outdoors\, connect with your community\, and enjoy outdoor activities.&nbsp\;</p><p>During the hike\, your expert guide will stop along the way to enjoy the beauty of nature in early summer\, and learn about the Appalachian Trail.&nbsp\;</p><p style="text-align: center\;"><strong fr-original-style="" style="font-weight: 700\;">Open to families and all ages.&nbsp\;</strong></p><p style="text-align: center\;"><strong fr-original-style="" style="font-weight: 700\;">Registration is not required and the event is free&mdash\;join us!&nbsp\;</strong></p><p style="text-align: center\;"><strong fr-original-style="" style="font-weight: 700\;">More Information:&nbsp\;</strong><a fr-original-style="" href="https://buttonwoodnaturecenter.org/event/national-trails-day-2026/" style="user-select: auto\;"><strong fr-original-style="" style="font-weight: 700\;">https://buttonwoodnaturecenter.org/event/national-trails-day-2026/</strong></a></p></body></html>
LOCATION:8006 Old Forge Rd Waynesboro PA 17268
UID:e.2621.1448443
SEQUENCE:3
DTSTAMP:20260424T105837Z
URL:https://washingtoncountychamberofcommercemd.growthzoneapp.com/communityevents/Details/national-trails-day-1715442?sourceTypeId=Hub
END:VEVENT
END:VCALENDAR
