BEGIN:VCALENDAR
VERSION:2.0
PRODID:-//ChamberMaster//Event Calendar 2.0//EN
METHOD:PUBLISH
X-PUBLISHED-TTL:P1H
REFRESH-INTERVAL:P1H
CALSCALE:GREGORIAN
BEGIN:VTIMEZONE
TZID:America/New_York
BEGIN:DAYLIGHT
RRULE:FREQ=YEARLY;BYMONTH=3;BYDAY=2SU
DTSTART:20070101T000000
TZOFFSETFROM:-0500
TZOFFSETTO:-0400
TZNAME:Eastern Daylight Time
END:DAYLIGHT
BEGIN:STANDARD
RRULE:FREQ=YEARLY;BYMONTH=11;BYDAY=1SU
DTSTART:20070101T000000
TZOFFSETFROM:-0400
TZOFFSETTO:-0500
TZNAME:Eastern Standard Time
END:STANDARD
END:VTIMEZONE
BEGIN:VEVENT
DTSTART;TZID=America/New_York:20260729T100000
DTEND;TZID=America/New_York:20260729T113000
X-MICROSOFT-CDO-ALLDAYEVENT:FALSE
SUMMARY:EXPLORE! Painting with Nature
DESCRIPTION:EXPLORE! Painting with Nature - with no paintbrushes!Part of the EXPLORE series of outdoor adventure programs\nWednesday\, July 2910:00 AM - 11:30 AM\nFor Kids in grade K - 5Fee: 8 Member of Buttonwood Nature Center / $10 General Public\nSpace is limited. Register online by July 22: https://buttonwoodnaturecenter.org/event/explore-painting-with-nature-2026/Nature is beautiful to look at\, but did you know it can also be used to create beautiful artwork? We will go on a hike to find natural items that we will then use to make art. The only catch no paintbrushes! Presented by Buttonwood Nature Center.
X-ALT-DESC;FMTTYPE=text/html:<!DOCTYPE html><html><head><title></title></head><body aria-disabled="false"><p style="text-align: center\;"><strong fr-original-style="" style="font-weight: 700\;"><span style="color: rgb(61\, 142\, 185)\; font-size: 24px\;">EXPLORE! Painting with Nature - with no paintbrushes!</span></strong></p><p style="text-align: center\;"><em>Part of the EXPLORE series of outdoor adventure programs</em></p><p style="text-align: center\;"><br></p><p style="text-align: center\;"><strong fr-original-style="" style="font-weight: 700\;">Wednesday\, July 29</strong></p><p style="text-align: center\;"><strong fr-original-style="" style="font-weight: 700\;">10:00 AM - 11:30 AM</strong></p><p style="text-align: center\;"><br></p><p style="text-align: center\;"><strong fr-original-style="" style="font-weight: 700\;">For Kids in grade K - 5</strong></p><p style="text-align: center\;"><strong fr-original-style="" style="font-weight: 700\;">Fee: 8 Member of Buttonwood Nature Center / $10 General Public</strong></p><p style="text-align: center\;"><br></p><p style="text-align: center\;"><strong fr-original-style="" style="font-weight: 700\;">Space is limited. Register online by July 22:&nbsp\;</strong></p><p style="text-align: center\;"><a fr-original-style="" href="https://buttonwoodnaturecenter.org/event/explore-painting-with-nature-2026/" style="user-select: auto\;"><strong fr-original-style="" style="font-weight: 700\;">https://buttonwoodnaturecenter.org/event/explore-painting-with-nature-2026/</strong></a></p><hr fr-original-style="" style="clear: both\; user-select: none\; break-after: page\;"><p>Nature is beautiful to look at\, but did you know it can also be used to create beautiful artwork? We will go on a hike to find natural items that we will then use to make art. The only catch&mdash\;no paintbrushes! Presented by Buttonwood Nature Center.</p></body></html>
LOCATION:12684 Mentzer Gap Rd Rouzerville PA 17268
UID:e.2621.1448494
SEQUENCE:3
DTSTAMP:20260424T105837Z
URL:https://washingtoncountychamberofcommercemd.growthzoneapp.com/communityevents/Details/explore-painting-with-nature-1715493?sourceTypeId=Hub
END:VEVENT
END:VCALENDAR
