BEGIN:VCALENDAR
VERSION:2.0
PRODID:-//ChamberMaster//Event Calendar 2.0//EN
METHOD:PUBLISH
X-PUBLISHED-TTL:P1H
REFRESH-INTERVAL:P1H
CALSCALE:GREGORIAN
BEGIN:VTIMEZONE
TZID:America/New_York
BEGIN:DAYLIGHT
RRULE:FREQ=YEARLY;BYMONTH=3;BYDAY=2SU
DTSTART:20070101T000000
TZOFFSETFROM:-0500
TZOFFSETTO:-0400
TZNAME:Eastern Daylight Time
END:DAYLIGHT
BEGIN:STANDARD
RRULE:FREQ=YEARLY;BYMONTH=11;BYDAY=1SU
DTSTART:20070101T000000
TZOFFSETFROM:-0400
TZOFFSETTO:-0500
TZNAME:Eastern Standard Time
END:STANDARD
END:VTIMEZONE
BEGIN:VEVENT
DTSTART;TZID=America/New_York:20260708T100000
DTEND;TZID=America/New_York:20260708T113000
X-MICROSOFT-CDO-ALLDAYEVENT:FALSE
SUMMARY:EXPLORE! Insect Investigations
DESCRIPTION:EXPLORE - Insect InvestigationsWednesday\, July 810:00 AM - 11:30 AMat Pine Hill Recreation Areahttps://buttonwoodnaturecenter.org/event/explore-insect-investigations2026/ Part of the EXPLORE series of outdoor adventure programs for kids in grades K to 5\, presented by Buttonwood Nature Center. Did you know a bug is different from an insect? Come learn all about insects in our Summer Explore series! We will go on a hike to look for insects and record what we see in nature journals. We will also create our own insects and build "bug hotels" that participants can take home to hang in their yard!Fee: $8 Buttonwood member\; $10 general public. Space is limited. Register Online by July 1 at buttonwoodnaturecenter.org
X-ALT-DESC;FMTTYPE=text/html:<!DOCTYPE html><html><head><title></title></head><body aria-disabled="false"><p style="text-align: center\;"><strong fr-original-style="" style="font-weight: 700\;"><em><span style="color: rgb(65\, 168\, 95)\; font-size: 24px\;">EXPLORE -&nbsp\;</span></em></strong><em><span style="color: rgb(65\, 168\, 95)\; font-size: 24px\;"><strong fr-original-style="" style="font-weight: 700\;">Insect Investigations</strong></span></em></p><hr fr-original-style="" style="clear: both\; user-select: none\; break-after: page\;"><p style="text-align: center\;"><strong fr-original-style="" style="font-weight: 700\;">Wednesday\, July 8</strong></p><p style="text-align: center\;"><strong fr-original-style="" style="font-weight: 700\;">10:00 AM - 11:30 AM</strong></p><p style="text-align: center\;"><strong fr-original-style="" style="font-weight: 700\;">at Pine Hill Recreation Area</strong></p><p style="text-align: center\;"><a fr-original-style="" href="https://buttonwoodnaturecenter.org/event/explore-insect-investigations2026/" style="user-select: auto\;"><strong fr-original-style="" style="font-weight: 700\;">https://buttonwoodnaturecenter.org/event/explore-insect-investigations2026/</strong></a><strong fr-original-style="" style="font-weight: 700\;">&nbsp\;</strong></p><hr fr-original-style="" style="clear: both\; user-select: none\; break-after: page\;"><p>Part of the EXPLORE series of outdoor adventure programs for kids in grades K to 5\, presented by Buttonwood Nature Center.&nbsp\;</p><p>Did you know a bug is different from an insect? Come learn all about insects in our Summer Explore series! We will go on a hike to look for insects and record what we see in nature journals.&nbsp\;</p><p>We will also create our own insects and build &ldquo\;bug hotels&rdquo\; that participants can take home to hang in their yard!</p><hr fr-original-style="" style="clear: both\; user-select: none\; break-after: page\;"><p><strong fr-original-style="" style="font-weight: 700\;">Fee: $8 Buttonwood member\; $10 general public.&nbsp\;</strong></p><p><strong fr-original-style="" style="font-weight: 700\;">Space is limited.&nbsp\;</strong><strong fr-original-style="" style="font-weight: 700\;">Register Online by July 1 at <a fr-original-style="" href="//buttonwoodnaturecenter.org" style="user-select: auto\;">buttonwoodnaturecenter.org</a>&nbsp\;</strong></p></body></html>
LOCATION:12684 Mentzer Gap Rd Waynesboro PA 17268
UID:e.2621.1448461
SEQUENCE:3
DTSTAMP:20260424T105840Z
URL:https://washingtoncountychamberofcommercemd.growthzoneapp.com/communityevents/Details/explore-insect-investigations-1715460?sourceTypeId=Hub
END:VEVENT
END:VCALENDAR
