BEGIN:VCALENDAR
VERSION:2.0
PRODID:-//ChamberMaster//Event Calendar 2.0//EN
METHOD:PUBLISH
X-PUBLISHED-TTL:P1H
REFRESH-INTERVAL:P1H
CALSCALE:GREGORIAN
BEGIN:VTIMEZONE
TZID:America/New_York
BEGIN:DAYLIGHT
RRULE:FREQ=YEARLY;BYMONTH=3;BYDAY=2SU
DTSTART:20070101T000000
TZOFFSETFROM:-0500
TZOFFSETTO:-0400
TZNAME:Eastern Daylight Time
END:DAYLIGHT
BEGIN:STANDARD
RRULE:FREQ=YEARLY;BYMONTH=11;BYDAY=1SU
DTSTART:20070101T000000
TZOFFSETFROM:-0400
TZOFFSETTO:-0500
TZNAME:Eastern Standard Time
END:STANDARD
END:VTIMEZONE
BEGIN:VEVENT
DTSTART;TZID=America/New_York:20260722T100000
DTEND;TZID=America/New_York:20260722T113000
X-MICROSOFT-CDO-ALLDAYEVENT:FALSE
SUMMARY:EXPLORE! Fun with Fairy Houses
DESCRIPTION:EXPLORE! Fun with Fairy HousesPresented by Buttonwood Nature Center\nWednesday\, July 2210:00 AM - 11:30 AMat Pine Hill Recreation Area\nFor kids in grades K - 5Fee: $8 Member of Buttonwood Nature Center / $10 General Public\nSpace is limited. Register online by July 15:https://buttonwoodnaturecenter.org/event/explore-fun-with-fairy-houses-2026/ Join Buttonwood as we forage for materials in nature like leaves\, twigs and more to make fairy houses. We'll also read a story\, build fairy houses\, and stretch our imaginations while we spend time in nature.
X-ALT-DESC;FMTTYPE=text/html:<!DOCTYPE html><html><head><title></title></head><body aria-disabled="false"><p style="text-align: center\;"><strong fr-original-style="" style="font-weight: 700\;"><span style="font-size: 30px\; color: rgb(147\, 101\, 184)\;">EXPLORE! Fun with Fairy Houses</span></strong></p><p style="text-align: center\;"><span style="font-size: 18px\; color: rgb(147\, 101\, 184)\;"><em>Presented by Buttonwood Nature Center</em></span></p><p style="text-align: center\;"><br></p><p style="text-align: center\;"><span style="font-size: 18px\;"><strong fr-original-style="" style="font-weight: 700\;">Wednesday\, July 22</strong></span></p><p style="text-align: center\;"><span style="font-size: 18px\;"><strong fr-original-style="" style="font-weight: 700\;">10:00 AM - 11:30 AM</strong></span></p><p style="text-align: center\;"><span style="font-size: 18px\;"><strong fr-original-style="" style="font-weight: 700\;">at Pine Hill Recreation Area</strong></span></p><p style="text-align: center\;"><br></p><p style="text-align: center\;"><span style="font-size: 18px\;"><strong fr-original-style="" style="font-weight: 700\;">For kids in grades K - 5</strong></span></p><p style="text-align: center\;"><span style="font-size: 18px\;"><strong fr-original-style="" style="font-weight: 700\;">Fee: $8 Member of Buttonwood Nature Center / $10 General Public</strong></span></p><p style="text-align: center\;"><br></p><p style="text-align: center\;"><span style="font-size: 18px\;"><strong fr-original-style="" style="font-weight: 700\;">Space is limited. Register online by July 15:</strong></span></p><p style="text-align: center\;"><strong fr-original-style="" style="font-weight: 700\;"><span style="font-size: 18px\;"><a fr-original-style="" href="https://buttonwoodnaturecenter.org/event/explore-fun-with-fairy-houses-2026/" style="user-select: auto\;">https://buttonwoodnaturecenter.org/event/explore-fun-with-fairy-houses-2026/</a>&nbsp\;</span></strong></p><hr fr-original-style="" style="clear: both\; user-select: none\; break-after: page\;"><p>Join Buttonwood as we forage for materials in nature like leaves\, twigs and more to make fairy houses. We&rsquo\;ll also read a story\, build fairy houses\, and stretch our imaginations while we spend time in nature.&nbsp\;</p></body></html>
LOCATION:12684 Mentzer Gap Rd Rouzerville PA 17268
UID:e.2621.1448488
SEQUENCE:3
DTSTAMP:20260424T105846Z
URL:https://washingtoncountychamberofcommercemd.growthzoneapp.com/communityevents/Details/explore-fun-with-fairy-houses-1715487?sourceTypeId=Hub
END:VEVENT
END:VCALENDAR
