BEGIN:VCALENDAR
VERSION:2.0
PRODID:-//ChamberMaster//Event Calendar 2.0//EN
METHOD:PUBLISH
X-PUBLISHED-TTL:P1H
REFRESH-INTERVAL:P1H
CALSCALE:GREGORIAN
BEGIN:VTIMEZONE
TZID:America/New_York
BEGIN:DAYLIGHT
RRULE:FREQ=YEARLY;BYMONTH=3;BYDAY=2SU
DTSTART:20070101T000000
TZOFFSETFROM:-0500
TZOFFSETTO:-0400
TZNAME:Eastern Daylight Time
END:DAYLIGHT
BEGIN:STANDARD
RRULE:FREQ=YEARLY;BYMONTH=11;BYDAY=1SU
DTSTART:20070101T000000
TZOFFSETFROM:-0400
TZOFFSETTO:-0500
TZNAME:Eastern Standard Time
END:STANDARD
END:VTIMEZONE
BEGIN:VEVENT
DTSTART;TZID=America/New_York:20260715T100000
DTEND;TZID=America/New_York:20260715T113000
X-MICROSOFT-CDO-ALLDAYEVENT:FALSE
SUMMARY:EXPLORE! Basics of Birding
DESCRIPTION:EXPLORE! Basics of BirdingPart of the EXPLORE series of outdoor adventure programs presented by Buttonwood Nature Center.\nWednesday\, July 1510:00 AM - 11:30 AMat Pine Hill Recreation Area \nFee: $8 Buttonwood Member / $10 General PublicFor kids in grades K to 5\nSpace is limited. Register online by July 8:https://buttonwoodnaturecenter.org/event/explore-basics-of-birding-2026/ \nJoin a Buttonwood Naturalist to learn about the wonders of birdwatching! Participants will learn how to focus binoculars\, keep a field journal\, and identify bird songs. There will be a short activity to practice using binoculars\, followed by a bird walk and a fun craft.
X-ALT-DESC;FMTTYPE=text/html:<!DOCTYPE html><html><head><title></title></head><body aria-disabled="false"><p style="text-align: center\;"><strong fr-original-style="" style="font-weight: 700\;"><span style="color: rgb(0\, 168\, 133)\; font-size: 30px\;">EXPLORE! Basics of Birding</span></strong></p><p style="text-align: center\;">Part of the EXPLORE series of outdoor adventure programs presented by Buttonwood Nature Center.</p><p style="text-align: center\;"><br></p><p style="text-align: center\;"><strong fr-original-style="" style="font-weight: 700\;"><span style="font-size: 18px\;">Wednesday\, July 15</span></strong></p><p style="text-align: center\;"><span style="font-size: 18px\;"><strong fr-original-style="" style="font-weight: 700\;">10:00 AM - 11:30 AM</strong></span></p><p style="text-align: center\;"><span style="font-size: 18px\;"><strong fr-original-style="" style="font-weight: 700\;">at Pine Hill Recreation Area</strong></span></p><p style="text-align: center\;"><span style="font-size: 18px\;">&nbsp\;<br></span></p><p style="text-align: center\;"><strong fr-original-style="" style="font-weight: 700\;"><span style="font-size: 18px\;">Fee: $8 Buttonwood Member / $10 General Public</span></strong></p><p style="text-align: center\;"><strong fr-original-style="" style="font-weight: 700\;"><span style="font-size: 18px\;">For kids in grades K to 5</span></strong></p><p style="text-align: center\;"><br></p><p style="text-align: center\;"><strong fr-original-style="" style="font-weight: 700\;"><span style="font-size: 18px\;">Space is limited. Register online by July 8:</span></strong></p><p style="text-align: center\;"><strong fr-original-style="" style="font-weight: 700\;"><span style="font-size: 18px\;"><a fr-original-style="" href="https://buttonwoodnaturecenter.org/event/explore-basics-of-birding-2026/" style="user-select: auto\;">https://buttonwoodnaturecenter.org/event/explore-basics-of-birding-2026/</a> <br></span></strong></p><hr fr-original-style="" style="clear: both\; user-select: none\; break-after: page\;"><p>Join a Buttonwood Naturalist to learn about the wonders of birdwatching! Participants will learn how to focus binoculars\, keep a field journal\, and identify bird songs. There will be a short activity to practice using binoculars\, followed by a bird walk and a fun craft.&nbsp\;</p></body></html>
LOCATION:12684 Mentzer Gap Rd Rouzerville PA 17268
UID:e.2621.1448481
SEQUENCE:3
DTSTAMP:20260424T105839Z
URL:https://washingtoncountychamberofcommercemd.growthzoneapp.com/communityevents/Details/explore-basics-of-birding-1715480?sourceTypeId=Hub
END:VEVENT
END:VCALENDAR
