BEGIN:VCALENDAR
VERSION:2.0
PRODID:-//ChamberMaster//Event Calendar 2.0//EN
METHOD:PUBLISH
X-PUBLISHED-TTL:P1H
REFRESH-INTERVAL:P1H
CALSCALE:GREGORIAN
BEGIN:VTIMEZONE
TZID:America/New_York
BEGIN:DAYLIGHT
RRULE:FREQ=YEARLY;BYMONTH=3;BYDAY=2SU
DTSTART:20070101T000000
TZOFFSETFROM:-0500
TZOFFSETTO:-0400
TZNAME:Eastern Daylight Time
END:DAYLIGHT
BEGIN:STANDARD
RRULE:FREQ=YEARLY;BYMONTH=11;BYDAY=1SU
DTSTART:20070101T000000
TZOFFSETFROM:-0400
TZOFFSETTO:-0500
TZNAME:Eastern Standard Time
END:STANDARD
END:VTIMEZONE
BEGIN:VEVENT
DTSTART;TZID=America/New_York:20260523T100000
DTEND;TZID=America/New_York:20260523T110000
X-MICROSOFT-CDO-ALLDAYEVENT:FALSE
SUMMARY:Birding for Beginners: Intro to Birding for Families
DESCRIPTION:Calling all prospective birders!\nBirding for Beginners: Intro to Birding for Families\nSaturday\, May 2310:00am - 11:00amat Buttonwood Nature Center\nFREE - Limited to 20. Be sure to register.https://buttonwoodnaturecenter.org/event/intro-to-birding-families-2026/ Are you new to birding but want to learn? Join Buttonwood educators as we delve into the basics of birding. You'll learn how to use binoculars properly when birding and maybe spot some of our fine feathered friends like common warblers\, finches or other birds. Local birding groups have spotted up to 60 different species in the park - how many will you spot?Participants should wear comfortable walking shoes. Program is free but registration is required. Limit 20. All ages welcome\, but parent/guardian must accompany children.
X-ALT-DESC;FMTTYPE=text/html:<!DOCTYPE html><html><head><title></title></head><body aria-disabled="false"><p style="text-align: center\;"><span style="font-size: 24px\; font-family: Arial\, Helvetica\, sans-serif\;"><em><span style="color: rgb(41\, 105\, 176)\;">Calling all prospective birders!</span></em></span></p><p style="text-align: center\;"><br></p><p style="text-align: center\;"><span style="font-family: Arial\,Helvetica\,sans-serif\;"><span style="font-size: 18px\;"><span style="color: rgb(25\, 26\, 32)\; font-style: normal\; font-variant-ligatures: normal\; font-variant-caps: normal\; font-weight: 400\; letter-spacing: 0.5px\; orphans: 2\; text-align: start\; text-indent: 0px\; text-transform: none\; widows: 2\; word-spacing: 0px\; -webkit-text-stroke-width: 0px\; white-space: nowrap\; background-color: rgb(255\, 255\, 255)\; text-decoration-thickness: initial\; text-decoration-style: initial\; text-decoration-color: initial\; float: none\; display: inline !important\;"><strong fr-original-style="" style="font-weight: 700\;">Birding for Beginners: Intro to Birding for Families</strong></span></span></span></p><p style="text-align: center\;"><br></p><p style="text-align: center\;"><span style="font-family: Arial\,Helvetica\,sans-serif\;"><span style="font-size: 18px\;"><span style="color: rgb(25\, 26\, 32)\; font-style: normal\; font-variant-ligatures: normal\; font-variant-caps: normal\; font-weight: 400\; letter-spacing: 0.5px\; orphans: 2\; text-align: start\; text-indent: 0px\; text-transform: none\; widows: 2\; word-spacing: 0px\; -webkit-text-stroke-width: 0px\; white-space: nowrap\; background-color: rgb(255\, 255\, 255)\; text-decoration-thickness: initial\; text-decoration-style: initial\; text-decoration-color: initial\; float: none\; display: inline !important\;"><strong fr-original-style="" style="font-weight: 700\;">Saturday\, May 23</strong></span></span></span></p><p style="text-align: center\;"><span style="font-family: Arial\,Helvetica\,sans-serif\;"><span style="font-size: 18px\;"><span style="color: rgb(25\, 26\, 32)\; font-style: normal\; font-variant-ligatures: normal\; font-variant-caps: normal\; font-weight: 400\; letter-spacing: 0.5px\; orphans: 2\; text-align: start\; text-indent: 0px\; text-transform: none\; widows: 2\; word-spacing: 0px\; -webkit-text-stroke-width: 0px\; white-space: nowrap\; background-color: rgb(255\, 255\, 255)\; text-decoration-thickness: initial\; text-decoration-style: initial\; text-decoration-color: initial\; float: none\; display: inline !important\;"><strong fr-original-style="" style="font-weight: 700\;">10:00am - 11:00am</strong></span></span></span></p><p style="text-align: center\;"><span style="font-family: Arial\,Helvetica\,sans-serif\;"><span style="font-size: 18px\;"><span style="color: rgb(25\, 26\, 32)\; font-style: normal\; font-variant-ligatures: normal\; font-variant-caps: normal\; font-weight: 400\; letter-spacing: 0.5px\; orphans: 2\; text-align: start\; text-indent: 0px\; text-transform: none\; widows: 2\; word-spacing: 0px\; -webkit-text-stroke-width: 0px\; white-space: nowrap\; background-color: rgb(255\, 255\, 255)\; text-decoration-thickness: initial\; text-decoration-style: initial\; text-decoration-color: initial\; float: none\; display: inline !important\;"><strong fr-original-style="" style="font-weight: 700\;">at Buttonwood Nature Center</strong></span></span></span></p><p style="text-align: center\;"><br></p><p style="text-align: center\;"><span style="font-family: Arial\,Helvetica\,sans-serif\;"><span style="font-size: 18px\;"><span style="color: rgb(25\, 26\, 32)\; font-style: normal\; font-variant-ligatures: normal\; font-variant-caps: normal\; font-weight: 400\; letter-spacing: 0.5px\; orphans: 2\; text-align: start\; text-indent: 0px\; text-transform: none\; widows: 2\; word-spacing: 0px\; -webkit-text-stroke-width: 0px\; white-space: nowrap\; background-color: rgb(255\, 255\, 255)\; text-decoration-thickness: initial\; text-decoration-style: initial\; text-decoration-color: initial\; float: none\; display: inline !important\;"><strong fr-original-style="" style="font-weight: 700\;">FREE - Limited to 20. Be sure to register.</strong></span></span></span></p><p style="text-align: center\;"><span style="font-size: 18px\; font-family: Arial\, Helvetica\, sans-serif\;"><strong fr-original-style="" style="font-weight: 700\;"><a fr-original-style="" href="https://buttonwoodnaturecenter.org/event/intro-to-birding-families-2026/" style="user-select: auto\;">https://buttonwoodnaturecenter.org/event/intro-to-birding-families-2026/</a>&nbsp\;</strong></span></p><hr fr-original-style="" style="clear: both\; user-select: none\; break-after: page\;"><p style="text-align: left\;"><span style="font-family: Arial\,Helvetica\,sans-serif\;"><span style="font-size: 18px\;">Are you new to birding but want to learn? Join Buttonwood educators as we delve into the basics of birding.&nbsp\;</span></span><span style="font-size: 18px\; font-family: Arial\, Helvetica\, sans-serif\;">You&rsquo\;ll learn how to use binoculars properly when birding and maybe spot some of our fine feathered friends like common warblers\, finches or other birds.&nbsp\;</span></p><ul fr-original-style="" style="list-style-position: inside\;"><li style="text-align: left\;"><span style="font-size: 18px\; font-family: Arial\, Helvetica\, sans-serif\;">Local birding groups have spotted up to 60 different species in the park - how many will you spot?</span></li><li style="text-align: left\;"><span style="font-size: 18px\; font-family: Arial\, Helvetica\, sans-serif\;">Participants should wear comfortable walking shoes.&nbsp\;</span></li><li style="text-align: left\;"><span style="font-size: 18px\; font-family: Arial\, Helvetica\, sans-serif\;">Program is free but registration is required.&nbsp\;</span></li><li style="text-align: left\;"><span style="font-size: 18px\; font-family: Arial\, Helvetica\, sans-serif\;">Limit 20.&nbsp\;</span></li><li style="text-align: left\;"><span style="font-size: 18px\; font-family: Arial\, Helvetica\, sans-serif\;">All ages welcome\, but parent/guardian must accompany children.&nbsp\;</span></li></ul><p style="text-align: left\;"><br></p></body></html>
LOCATION:10356 Amsterdam Road Waynesboro PA 17268
UID:e.2621.1448431
SEQUENCE:3
DTSTAMP:20260424T105845Z
URL:https://washingtoncountychamberofcommercemd.growthzoneapp.com/communityevents/Details/birding-for-beginners-intro-to-birding-for-families-1715430?sourceTypeId=Hub
END:VEVENT
END:VCALENDAR
