BEGIN:VCALENDAR
VERSION:2.0
PRODID:-//ChamberMaster//Event Calendar 2.0//EN
METHOD:PUBLISH
X-PUBLISHED-TTL:P1H
REFRESH-INTERVAL:P1H
CALSCALE:GREGORIAN
BEGIN:VTIMEZONE
TZID:America/New_York
BEGIN:DAYLIGHT
RRULE:FREQ=YEARLY;BYMONTH=3;BYDAY=2SU
DTSTART:20070101T000000
TZOFFSETFROM:-0500
TZOFFSETTO:-0400
TZNAME:Eastern Daylight Time
END:DAYLIGHT
BEGIN:STANDARD
RRULE:FREQ=YEARLY;BYMONTH=11;BYDAY=1SU
DTSTART:20070101T000000
TZOFFSETFROM:-0400
TZOFFSETTO:-0500
TZNAME:Eastern Standard Time
END:STANDARD
END:VTIMEZONE
BEGIN:VEVENT
DTSTART;TZID=America/New_York:20260626T173000
DTEND;TZID=America/New_York:20260626T210000
X-MICROSOFT-CDO-ALLDAYEVENT:FALSE
SUMMARY:Bay Supper Fundraiser
DESCRIPTION:Here's an event that's definitely all it's cracked up to be!Bay Supper Fundraiser - Crab Feast\nFriday\, June 26\n5:30 PM - 9:00 PM(Dinner at 6:45 PM)\nat Waynesboro Country Club\nExperience a traditional "crab feast" dinner and live and silent auctions during this annual fundraising event. Doors Open 5:30 p.m.\, dinner at 6:45. Members\, friends\, and families come together to support Buttonwood Nature Center with a fabulous evening of food\, fun\, and frolic featuring steamed crabs from the Bay\, shrimp\, delectable side dishes\, dessert\, and Bay-related activities. Bid it up on lots of great items during the silent and live auctions. Reservations required. Tickets: $100 per person\; $115/Patron Call 717-762-0373Email jessica@buttonwoodnaturecenter.org  Or visit www.buttonwoodnaturecenter.org to register online https://buttonwoodnaturecenter.org/event/bay-supper-fundraiser-2026/
X-ALT-DESC;FMTTYPE=text/html:<!DOCTYPE html><html><head><title></title></head><body aria-disabled="false"><p style="text-align: center\;"><span style="font-size: 24px\;"><strong fr-original-style="" style="font-weight: 700\;"><em><span style="color: rgb(184\, 49\, 47)\;">Here&rsquo\;s an event that&rsquo\;s definitely all it&rsquo\;s cracked up to be!</span></em></strong></span></p><hr fr-original-style="" style="clear: both\; user-select: none\; break-after: page\;"><p style="text-align: center\;"><strong fr-original-style="" style="font-weight: 700\;"><span style="font-size: 24px\;">Bay Supper Fundraiser - Crab Feast</span></strong></p><p style="text-align: center\;"><br></p><p style="text-align: center\;"><strong fr-original-style="" style="font-weight: 700\;">Friday\, June 26</strong></p><p style="text-align: center\;"><br></p><p style="text-align: center\;"><strong fr-original-style="" style="font-weight: 700\;">5:30 PM - 9:00 PM</strong></p><p style="text-align: center\;"><strong fr-original-style="" style="font-weight: 700\;">(Dinner at 6:45 PM)</strong></p><p style="text-align: center\;"><br></p><p style="text-align: center\;"><strong fr-original-style="" style="font-weight: 700\;">at Waynesboro Country Club</strong></p><p style="text-align: center\;"><br></p><hr fr-original-style="" style="clear: both\; user-select: none\; break-after: page\;"><p>Experience a traditional &ldquo\;crab feast&rdquo\; dinner and live and silent auctions during this annual fundraising event. Doors Open 5:30 p.m.\, dinner at 6:45.&nbsp\;</p><p>Members\, friends\, and families come together to support Buttonwood Nature Center with a fabulous evening of food\, fun\, and frolic featuring steamed crabs from the Bay\, shrimp\, delectable side dishes\, dessert\, and Bay-related activities.&nbsp\;</p><p>Bid it up on lots of great items during the silent and live auctions.&nbsp\;</p><hr fr-original-style="" style="clear: both\; user-select: none\; break-after: page\;"><p style="text-align: center\;"><strong fr-original-style="" style="font-weight: 700\;"><span style="color: rgb(184\, 49\, 47)\; font-size: 24px\;">Reservations required.&nbsp\;</span></strong></p><p style="text-align: center\;"><strong fr-original-style="" style="font-weight: 700\;"><span style="font-size: 24px\;">Tickets: $100 per person\; $115/Patron</span>&nbsp\;</strong></p><p>Call 717-762-0373</p><p>Email jessica@buttonwoodnaturecenter.org &nbsp\;</p><p>Or visit www.buttonwoodnaturecenter.org to register online&nbsp\;</p><p><a fr-original-style="" href="https://buttonwoodnaturecenter.org/event/bay-supper-fundraiser-2026/" style="user-select: auto\;">https://buttonwoodnaturecenter.org/event/bay-supper-fundraiser-2026/</a>&nbsp\;</p></body></html>
LOCATION:11000 Country Club Rd. Waynesboro PA 17268
UID:e.2621.1448453
SEQUENCE:3
DTSTAMP:20260424T105839Z
URL:https://washingtoncountychamberofcommercemd.growthzoneapp.com/communityevents/Details/bay-supper-fundraiser-1715452?sourceTypeId=Hub
END:VEVENT
END:VCALENDAR
